BEGIN:VCALENDAR
VERSION:2.0
PRODID:-//MTS Events - ECPv6.15.18//NONSGML v1.0//EN
CALSCALE:GREGORIAN
METHOD:PUBLISH
X-WR-CALNAME:MTS Events
X-ORIGINAL-URL:https://mts-events.de
X-WR-CALDESC:Veranstaltungen für MTS Events
REFRESH-INTERVAL;VALUE=DURATION:PT1H
X-Robots-Tag:noindex
X-PUBLISHED-TTL:PT1H
BEGIN:VTIMEZONE
TZID:Europe/Berlin
BEGIN:DAYLIGHT
TZOFFSETFROM:+0100
TZOFFSETTO:+0200
TZNAME:CEST
DTSTART:20230326T010000
END:DAYLIGHT
BEGIN:STANDARD
TZOFFSETFROM:+0200
TZOFFSETTO:+0100
TZNAME:CET
DTSTART:20231029T010000
END:STANDARD
BEGIN:DAYLIGHT
TZOFFSETFROM:+0100
TZOFFSETTO:+0200
TZNAME:CEST
DTSTART:20240331T010000
END:DAYLIGHT
BEGIN:STANDARD
TZOFFSETFROM:+0200
TZOFFSETTO:+0100
TZNAME:CET
DTSTART:20241027T010000
END:STANDARD
BEGIN:DAYLIGHT
TZOFFSETFROM:+0100
TZOFFSETTO:+0200
TZNAME:CEST
DTSTART:20250330T010000
END:DAYLIGHT
BEGIN:STANDARD
TZOFFSETFROM:+0200
TZOFFSETTO:+0100
TZNAME:CET
DTSTART:20251026T010000
END:STANDARD
BEGIN:DAYLIGHT
TZOFFSETFROM:+0100
TZOFFSETTO:+0200
TZNAME:CEST
DTSTART:20260329T010000
END:DAYLIGHT
BEGIN:STANDARD
TZOFFSETFROM:+0200
TZOFFSETTO:+0100
TZNAME:CET
DTSTART:20261025T010000
END:STANDARD
END:VTIMEZONE
BEGIN:VEVENT
DTSTART;VALUE=DATE:20241231
DTEND;VALUE=DATE:20250102
DTSTAMP:20260420T102503
CREATED:20240924T105349Z
LAST-MODIFIED:20241230T052432Z
UID:2303-1735603200-1735775999@mts-events.de
SUMMARY:MTS Silvesterparty 2024 mit DjW1
DESCRIPTION:Verpassen Sie nicht die Gelegenheit\, im historischen Ambiente des Marienthaler Schlösschens gemeinsam mit Freunden und Familie in das neue Jahr zu feiern.\nTanzen Sie zu den Klängen von DjW1 unter einer funkelnden Lasershow.\nEinlass: 19:00 Uhr\nDie Musik? Ein Feuerwerk der Hits! Von den 80ern über die 90er bis zu den aktuellsten Charts – DJW1 zaubert die perfekte Mischung für jeden Geschmack auf die Tanzfläche. Ob Fox oder Dancefloor\, hier ist für jeden etwas dabei! \nSichern Sie sich jetzt Ihre Plätze für diesen besonderen Abend! \n					\n												Loading...\n						\n							\n																	\n										\n											\n																																																	\n																																									\n																							\n										\n																																								\n																																																																		\n									\n																	\n										\n											\n																																																	\n																																									\n																							\n										\n																																								\n																																																																		\n									\n																	\n										\n											\n																																																	\n																																									\n																							\n										\n																																								\n																																																																		\n									\n																	\n										\n											\n																																																	\n																																									\n																							\n										\n																																								\n																																																																		\n									\n																	\n										\n											\n																																																	\n																																									\n																							\n										\n																																								\n																																																																		\n									\n																	\n										\n											\n																																																	\n																																									\n																							\n										\n																																								\n																																																																		\n									\n																							\n						\n					\n								\nLive-Unterhaltung: DJW1 Silvester Dance Night \nSilvester Snack Countdown Paket: 3 verschiedene Suppen\, Würstchen\, Frikadellen\, Schnitzel\, Käseplatte…  \nGetränke: 3 Bars für jeden Geschmack\, egal ob Cocktails oder Bier (Getränke nicht inklusive) \nElegante Atmosphäre: historischen Ambiente\, sowie Kaminfeuer am Dancefloor und in der Park-Lounge \nGroßes Feuerwerk im Schlosspark um Mitternacht \nEinlass: 19:00 Uhr
URL:https://mts-events.de/event/mts-silvesterparty-2024-mit-djw1/
LOCATION:Marienthaler Schlösschen\, Altensteiner Str. 130\, Bad Liebenstein\, 36448\, Deutschland
CATEGORIES:MTS Events
ATTACH;FMTTYPE=image/jpeg:https://mts-events.de/wp-content/uploads/2024/09/Ausverkauft.jpg
ORGANIZER;CN="MTS Events":MAILTO:look@mts-events.de
END:VEVENT
END:VCALENDAR