BEGIN:VCALENDAR
VERSION:2.0
PRODID:-//MTS Events - ECPv6.15.18//NONSGML v1.0//EN
CALSCALE:GREGORIAN
METHOD:PUBLISH
X-ORIGINAL-URL:https://mts-events.de
X-WR-CALDESC:Veranstaltungen für MTS Events
REFRESH-INTERVAL;VALUE=DURATION:PT1H
X-Robots-Tag:noindex
X-PUBLISHED-TTL:PT1H
BEGIN:VTIMEZONE
TZID:Europe/Berlin
BEGIN:DAYLIGHT
TZOFFSETFROM:+0100
TZOFFSETTO:+0200
TZNAME:CEST
DTSTART:20240331T010000
END:DAYLIGHT
BEGIN:STANDARD
TZOFFSETFROM:+0200
TZOFFSETTO:+0100
TZNAME:CET
DTSTART:20241027T010000
END:STANDARD
BEGIN:DAYLIGHT
TZOFFSETFROM:+0100
TZOFFSETTO:+0200
TZNAME:CEST
DTSTART:20250330T010000
END:DAYLIGHT
BEGIN:STANDARD
TZOFFSETFROM:+0200
TZOFFSETTO:+0100
TZNAME:CET
DTSTART:20251026T010000
END:STANDARD
BEGIN:DAYLIGHT
TZOFFSETFROM:+0100
TZOFFSETTO:+0200
TZNAME:CEST
DTSTART:20260329T010000
END:DAYLIGHT
BEGIN:STANDARD
TZOFFSETFROM:+0200
TZOFFSETTO:+0100
TZNAME:CET
DTSTART:20261025T010000
END:STANDARD
END:VTIMEZONE
BEGIN:VEVENT
DTSTART;TZID=Europe/Berlin:20250905T193000
DTEND;TZID=Europe/Berlin:20250906T040000
DTSTAMP:20260424T132749
CREATED:20250519T071448Z
LAST-MODIFIED:20250825T132315Z
UID:3383-1757100600-1757131200@mts-events.de
SUMMARY:FRIDAY NIGHT 05.09.25 – DJW1 – AMAZING DANCE MUSIC
DESCRIPTION:FRIDAY NIGHT\nDJW1  –  Dance Professional and Mix-Performance  \n„Amazing Dance Music“ – Klasse Musik und Dancefloor-Feeling \nErleben Sie einen tollen Dance Abend !\nDJW1 sorgt für einen einzigartigen Sound und für jeden ist was dabei. \nACHTUNG: 22:30 Live Performance „45-minutes-mix“ – zum späteren Download!! \nDie neue Terrasse und der geometrische Garten laden dazu ein\, den Abend auch zum Teil draußen in entspannter Atmosphäre zu genießen und von vielen Seiten den Blick auf die wunderschönen Springbrunnen und das Schlösschen zu werfen. \nUnser Team freut sich wieder\, für Sie da zu sein um Ihnen den bestmöglichen Service zu bieten. \nPacken Sie Ihre Freunde ein und feiern Sie mit uns eine Nacht voller Energie und guter Laune! \nEuer MTS-Team \nim Marienthaler Schlösschen \nAltensteiner Str. 130 | 36448 Bad Liebenstein \nEintritt: \nVorverkauf: 10€ inkl. 5 Fröbeltaler ACHTUNG: nur bis zum 1.9.2025 16 Uhr möglich \nNormale Verkaufspreis & Abendkasse: 15€ inkl. 7 Fröbeltaler \nEinlass ab 19:30 Uhr \n 
URL:https://mts-events.de/event/friday-night-05-09-25-djw1-amazing-dance-music/
LOCATION:Marienthaler Schlösschen\, Altensteiner Str. 130\, Bad Liebenstein\, 36448\, Deutschland
CATEGORIES:MTS Events
ATTACH;FMTTYPE=image/jpeg:https://mts-events.de/wp-content/uploads/2025/05/MTS_Event_0509.jpg
END:VEVENT
BEGIN:VEVENT
DTSTART;TZID=Europe/Berlin:20250911T193000
DTEND;TZID=Europe/Berlin:20250911T233000
DTSTAMP:20260424T132749
CREATED:20250807T143548Z
LAST-MODIFIED:20250912T231647Z
UID:3645-1757619000-1757633400@mts-events.de
SUMMARY:80er u. 90er Party [FR] 12.09.2025
DESCRIPTION:Die MEGA 80er- & 90er-Party\ndie ultimative Zeitreise im Schlösschen!\nTaucht mit uns am 12.09 ein in die legendären Jahrzehnte voller unvergesslicher Hits\, schriller Outfits und ausgelassener Stimmung! \nOb Neonfarben\, Schulterpolster oder Baggy Pants\, die Musik war immer noch das non plus ultra\, daher heißt es tanzen\, feiern und abrocken wie damals! \nDie besten Klassiker der 80er & 90er – von Madonna bis Backstreet Boys\, von Depeche Mode bis Dr. Alban – mit Hymnen wie Billie Jean\, Rhythm Is a Dancer und Wannabe\, die garantiert niemanden stillstehen lassen! \nSchnappt eure Crew\, schmeißt euch in eure freshesten Retro-Klamotten und lasst’s richtig krachen bis zum Morgengrauen! \nJetzt Tickets sichern und dabei sein! \n  \nEuer MTS-Team \nim Marienthaler Schlösschen \nAltensteiner Str. 130 | 36448 Bad Liebenstein \n  \nEintritt: \nVorverkauf: 10€ ACHTUNG: nur bis zum 10.9.2025 möglich \nNormale Verkaufspreis & Abendkasse: 15€ \nEinlass ab 19:30 Uhr
URL:https://mts-events.de/event/80er-u-90er-party/
LOCATION:Marienthaler Schlösschen\, Altensteiner Str. 130\, Bad Liebenstein\, 36448\, Deutschland
CATEGORIES:MTS Events
ATTACH;FMTTYPE=image/jpeg:https://mts-events.de/wp-content/uploads/2025/08/MTS_120925.jpg
ORGANIZER;CN="MTS Events":MAILTO:look@mts-events.de
END:VEVENT
BEGIN:VEVENT
DTSTART;TZID=Europe/Berlin:20250919T193000
DTEND;TZID=Europe/Berlin:20250919T233000
DTSTAMP:20260424T132749
CREATED:20250826T061307Z
LAST-MODIFIED:20250920T102430Z
UID:3739-1758310200-1758324600@mts-events.de
SUMMARY:Flirt Night am [FR] 19.09.25
DESCRIPTION:Flirt\, Fun & Feelgood!  \nAm Freitag verwandelt sich das Schlösschen in die heißeste Location für Singles\, Nachtschwärmer und Partypeople\, die Lust auf neue Kontakte haben. \nOb beim Tanzen\, an der Bar oder draußen auf der Terrasse\, die Flirt Night ist die perfekte Gelegenheit\, locker ins Gespräch zu kommen und gemeinsam eine unvergessliche Nacht zu erleben. \nCharmante Spiele\, kleine Überraschungen und die perfekte Partymusik sorgen dafür\, dass das Eis schnell bricht und die Stimmung steigt. \n  \nFrühbucherticket bis 17.09. nur 10 € inkl. 5 Fröbeltaler (statt 15 €) \nVorverkauf & Abendkasse: 15€ inkl. 7 Fröbeltaler \n  \nAlso: Lächeln nicht vergessen\, Freunde einpacken und vorbeikommen\, vielleicht wartet dein perfektes Match schon auf dich! \n  \nEuer MTS-Team
URL:https://mts-events.de/event/flirt-night/
CATEGORIES:MTS Events
ATTACH;FMTTYPE=image/jpeg:https://mts-events.de/wp-content/uploads/2025/08/GetImage.jpeg
ORGANIZER;CN="MTS Events":MAILTO:look@mts-events.de
END:VEVENT
BEGIN:VEVENT
DTSTART;TZID=Europe/Berlin:20250926T193000
DTEND;TZID=Europe/Berlin:20250927T193000
DTSTAMP:20260424T132749
CREATED:20250826T062322Z
LAST-MODIFIED:20250927T223001Z
UID:3744-1758915000-1759001400@mts-events.de
SUMMARY:Ü30 Party
DESCRIPTION:Die Nacht für alle über 30\, die noch lange nicht ans Aufhören denken! \nAm Samstag feiern wir eine tolle Ü30 Party im Schlösschen\, mit den besten Hits der letzten Jahrzehnte\, gepaart mit aktuellen Tracks\, die sofort auf die Tanzfläche ziehen. \nOb gepflegt anstoßen\, alte Bekannte treffen oder zu euren Lieblingssongs abfeiern\, hier kommt jede Generation auf ihre Kosten. Unsere Terrasse und der Garten laden außerdem zum entspannten Plaudern unter freiem Himmel ein. \n  \nFrühbucherticket bis 24.09. nur 10 € (statt 15 €) (inkl. 5 Fröbeltaler) \nVorverkauf & Abendkasse: 15 € (inkl. 7 Fröbeltaler) \n  \nGenießt eine Nacht voller Spaß\, guter Drinks und noch besserer Gesellschaft\, ganz ohne Teenie-Alarm\, dafür mit 100 % Wohlfühlatmosphäre. \nWir freuen uns auf euch\, lasst uns zusammen die Nacht durchfeiern! \n  \nEuer MTS-Team
URL:https://mts-events.de/event/ue30-party/
CATEGORIES:MTS Events
ATTACH;FMTTYPE=image/jpeg:https://mts-events.de/wp-content/uploads/2025/08/MTS_Event_270925.jpg
ORGANIZER;CN="MTS Events":MAILTO:look@mts-events.de
END:VEVENT
END:VCALENDAR