BEGIN:VCALENDAR
VERSION:2.0
PRODID:-//MTS Events - ECPv6.15.18//NONSGML v1.0//EN
CALSCALE:GREGORIAN
METHOD:PUBLISH
X-WR-CALNAME:MTS Events
X-ORIGINAL-URL:https://mts-events.de
X-WR-CALDESC:Veranstaltungen für MTS Events
REFRESH-INTERVAL;VALUE=DURATION:PT1H
X-Robots-Tag:noindex
X-PUBLISHED-TTL:PT1H
BEGIN:VTIMEZONE
TZID:Europe/Berlin
BEGIN:DAYLIGHT
TZOFFSETFROM:+0100
TZOFFSETTO:+0200
TZNAME:CEST
DTSTART:20240331T010000
END:DAYLIGHT
BEGIN:STANDARD
TZOFFSETFROM:+0200
TZOFFSETTO:+0100
TZNAME:CET
DTSTART:20241027T010000
END:STANDARD
BEGIN:DAYLIGHT
TZOFFSETFROM:+0100
TZOFFSETTO:+0200
TZNAME:CEST
DTSTART:20250330T010000
END:DAYLIGHT
BEGIN:STANDARD
TZOFFSETFROM:+0200
TZOFFSETTO:+0100
TZNAME:CET
DTSTART:20251026T010000
END:STANDARD
BEGIN:DAYLIGHT
TZOFFSETFROM:+0100
TZOFFSETTO:+0200
TZNAME:CEST
DTSTART:20260329T010000
END:DAYLIGHT
BEGIN:STANDARD
TZOFFSETFROM:+0200
TZOFFSETTO:+0100
TZNAME:CET
DTSTART:20261025T010000
END:STANDARD
END:VTIMEZONE
BEGIN:VEVENT
DTSTART;TZID=Europe/Berlin:20250801T193000
DTEND;TZID=Europe/Berlin:20250802T033000
DTSTAMP:20260424T120408
CREATED:20250519T071750Z
LAST-MODIFIED:20250801T183600Z
UID:3389-1754076600-1754105400@mts-events.de
SUMMARY:FRIDAY NIGHT 01.08.25 – DJW1 – AMAZING DANCE MUSIC
DESCRIPTION:FRIDAY NIGHT\nDJW1\n„Amazing Dance Music“ – Die richtige Musik und Tanzen sind uns wichtig. \nMach dich bereit für eine unvergessliche Nacht voller Beats und Vibes! DJW1 bringt den Soundtrack für deine ultimative Dance-Party. Von treibenden Bässen über elektrisierende Rhythmen bis hin zu den heißesten Hits\, von dieser Party geht niemand ohne Groove nach Hause. \nWir können es kaum erwarten\, mit euch zu feiern! \nEuer MTS-Team \nim Marienthaler Schlösschen \nAltensteiner Str. 130 | 36448 Bad Liebenstein \nEintritt: \nVorverkauf: 10€ inkl. 5 Fröbeltaler\nAbendkasse: 15€ inkl. 7 Fröbeltaler \nEinlass 19:30
URL:https://mts-events.de/event/friday-night-01-08-25-djw1-amazing-dance-music/
LOCATION:Marienthaler Schlösschen\, Altensteiner Str. 130\, Bad Liebenstein\, 36448\, Deutschland
CATEGORIES:MTS Events
ATTACH;FMTTYPE=image/jpeg:https://mts-events.de/wp-content/uploads/2025/05/Website_Ankuendigung_2b.jpg
END:VEVENT
END:VCALENDAR