BEGIN:VCALENDAR
VERSION:2.0
PRODID:-//MTS Events - ECPv6.15.18//NONSGML v1.0//EN
CALSCALE:GREGORIAN
METHOD:PUBLISH
X-ORIGINAL-URL:https://mts-events.de
X-WR-CALDESC:Veranstaltungen für MTS Events
REFRESH-INTERVAL;VALUE=DURATION:PT1H
X-Robots-Tag:noindex
X-PUBLISHED-TTL:PT1H
BEGIN:VTIMEZONE
TZID:Europe/Berlin
BEGIN:DAYLIGHT
TZOFFSETFROM:+0100
TZOFFSETTO:+0200
TZNAME:CEST
DTSTART:20240331T010000
END:DAYLIGHT
BEGIN:STANDARD
TZOFFSETFROM:+0200
TZOFFSETTO:+0100
TZNAME:CET
DTSTART:20241027T010000
END:STANDARD
BEGIN:DAYLIGHT
TZOFFSETFROM:+0100
TZOFFSETTO:+0200
TZNAME:CEST
DTSTART:20250330T010000
END:DAYLIGHT
BEGIN:STANDARD
TZOFFSETFROM:+0200
TZOFFSETTO:+0100
TZNAME:CET
DTSTART:20251026T010000
END:STANDARD
BEGIN:DAYLIGHT
TZOFFSETFROM:+0100
TZOFFSETTO:+0200
TZNAME:CEST
DTSTART:20260329T010000
END:DAYLIGHT
BEGIN:STANDARD
TZOFFSETFROM:+0200
TZOFFSETTO:+0100
TZNAME:CET
DTSTART:20261025T010000
END:STANDARD
END:VTIMEZONE
BEGIN:VEVENT
DTSTART;VALUE=DATE:20250704
DTEND;VALUE=DATE:20250705
DTSTAMP:20260424T103517
CREATED:20250512T061007Z
LAST-MODIFIED:20250704T180754Z
UID:3373-1751587200-1751673599@mts-events.de
SUMMARY:FRIDAY NIGHT 04.07.25 – DJW1 – AMAZING DANCE MUSIC
DESCRIPTION:FRIDAY NIGHT\nDJW1\n„Amazing Dance Music“ – Die richtige Musik und Tanzen sind uns wichtig. \nMach dich bereit für eine unvergessliche Nacht voller Beats und Vibes! DJW1 bringt den Soundtrack für deine ultimative Dance-Party. Von treibenden Bässen über elektrisierende Rhythmen bis hin zu den heißesten Hits\, von dieser Party geht niemand ohne Groove nach Hause. \nWir können es kaum erwarten\, mit euch zu feiern! \nEuer MTS-Team \nim Marienthaler Schlösschen \nAltensteiner Str. 130 | 36448 Bad Liebenstein \nEintritt: \nVorverkauf: 10€ inkl. 5 Fröbeltaler\nAbendkasse: 15€ inkl. 7 Fröbeltaler \nEinlass 19:30
URL:https://mts-events.de/event/friday-night-04-07-25-djw1-amazing-dance-music/
LOCATION:Marienthaler Schlösschen\, Altensteiner Str. 130\, Bad Liebenstein\, 36448\, Deutschland
CATEGORIES:MTS Events
ATTACH;FMTTYPE=image/jpeg:https://mts-events.de/wp-content/uploads/2025/05/MTS_Event_0407.jpg
ORGANIZER;CN="MTS Events":MAILTO:look@mts-events.de
END:VEVENT
END:VCALENDAR